Workbook
Name CapEx: Data!$G$4:$G$6
Name CapManEx: Data!$H$4:$H$6
Name DSEx: Data!$J$4:$J$6
Name OpEx: Data!$I$4:$I$6

Sheet GUIDANCE
A1: GUIDANCE TO USERS OF THE "DISTRICT CONSOLIDATED FINANCE TOOL"
A3: PURPOSE OF THE TOOL
A4: This district planning tool is designed for district planners, district decision makers or organisations supporting these stakeholders in developing a 10 year strategic plan for the provision of universal and sustainable water supply. It is based on prior understanding of current services provided in the district, costs of service provision and revenue available to cover these costs and provides a consolidated overview of these elements, in view of informing discussion and decision-making.
A5: This tool is designed to be used at district level and considers the district as a geographical unit, as the scale of analysis, regardless of the service provision models in place.
A7: DESCRIPTION OF THE TOOL
A8: The tool is made of 6 tabs that aggregate data generated in other tools. This means tabs 1 to 5 need to be filled in manually whilst tab 6 generates a consolidated view.
A10: Tab 1. PROFILE
A11: This tab provides an overview of the current water supply services available in the dsitrict.
A13: Tab 2. FINANCIAL FLOWS
A14: This tab presents all possible financial flows options that can exist in a given district to fund water supply services. This tab serves as background and enables the user to select the most appropriate diagramme, corresponding to the situation in its district.
A15: Tab 3. VISION
A16: This tab provides an overview of the district vision in terms of targets and milestones. This tab will be inputted based on seperate discussions with the district.
... A30: ADDITIONAL READING
A31: Cost categories: Costing and budgeting tools, IRC, 2017. | B31: Cost categories
A32: District planning processes: Guidance for developing a district WASH plan, W4P and Aguaconsult, 2018

Sheet GLOSSARY
A1: Cost categories
A3: Life cycle costs | F3: refer to all the costs that are incurred in the various phases in the life-cycle of a water services; from the implementation of the infrastructure, to its operation and maintenance, and eventual replacement. If certain costs are left out, this is sooner or later reflected in a reduced level of service and poor sustainability.
A5: Capital Expenditure (CapEx) | F5: the initial investment in the development of a water or sanitation system, referring to both the investment costs into infrastructure as well as costs related to the mobilisation of the community.
A7: Operation Expenditure (OpEx) | F7: recurrent (regular, ongoing) expenditure on labour (salary for staff), costs for management (transport, fuel), energy and chemicals, materials, and minor repairs of the infrastructure.
A9: Capital Maintenance Expenditure (CapManEx) | F9: expenditure on asset renewal, replacement and rehabilitation of the infrastructure.
A11: Direct Support | F11: expenditure on both pre- and post-construction support activities directed to local-level stakeholders, users or user groups
A13: Indirect Support | F13: includes government macro-level planning and policy making, plus developing and maintaining frameworks and institutional arrangements and capacity building for professionals and technicians. The expenditures are not tied to a particular programme or project.
A15: Cost of Capital | F15: is the expense of financing a programme or project and includes loan repayments and the cost of tying up scarce capital. In the case of private sector investment, the cost of capital includes what should be a ‘fair profit’, to be distributed as dividends. The cost of capital may vary depending on the access lower-cost public capital (at a risk-free rate).
A17: Source of finance
A19: Tariffs | F19: is the amount charged to customers to recover cost (supplying, billing and collecting) and in certain cases for profit margin.
A21: Royalties | F21: is the amount paid by the private operator to the district for having the right to deliver water services. In Rwanda, they are only implemented in rural areas.
A23: Central government transfers | F23: is the amount provided by central government to the district .
A25: Local taxes | F25: is the amount paid by users to the district.
A27: District development partners | F27: is the amount provided under loan or grants by international partners to the district directly.

Sheet 1_Profile
A1: DISTRICT PROFILE
A3: Reference year | C3: 2020
A4: PROVINCE
A5: DISTRICT | H5: Insert map
A7: 1. DEMOGRAPHICS
A8: Area | B8: Total population | C8: Percentage | D8: Growth rate
A9: Rural
A10: Urban
A11: Total
A12: Source of information to be inserted for reference under the table
A14: 2. WATER AND SANITATION SERVICES | H14: Insert map
A15: COVERAGE
A16: Sub-sector | B16: Coverage rate
A17: Water
A18: Sanitation
A19: Handwashing with soap
A20: WASH in schools
A21: WASH in health centres
A22: Total
A23: Source of information to be inserted for reference under the table
A25: SERVICE LEVELS
A26: Sub-sector | B26: Improved | C26: Basic | D26: Limited | E26: No service
A27: Water | H27: % of the district population with access to the various levels of service
A28: Sanitation | H28: Insert map of the district with a representation of the service levels per area
A29: Hygiene
A31: OVERVIEW OF WATER SYSTEMS
A32: Type of system | B32: Number of systems | C32: Area | D32: Service provider | E32: Number of users
A33: Gravity | C33: Rural/urban | D33: PO/Community/WASAC
A34: Motorized Pumping
A35: `

Sheet 2_FinancialFlows
A1: FINANCIAL FLOWS
A3: Please select the appropriate diagramme and fill in the table on that basis. These diagrammes are only used as background to explain the sources of fundings and responsibility.
A5: 1. FUNDING FLOWS IN DISTRICT
A7: COST CATEGORY AND FUNDING CHANNELS | B7: To be adapted based on the district context
A8: Service provider | B8: CapEx | C8: CapManEx | D8: OpEx | E8: DSexp
A9: WASAC utility | B9: Entity: WASAC Dvpt Source: Central government transfers, Local taxes and District development partners | C9: Entity: WASAC Dvpt Source: Central government transfers, Local taxes and District development partners | D9: Entity: WASAC utility Source: Tariff | E9: Entity: District Source: Central government transfers, Local taxes, Royalties and District development partners
A11: Private operator | B11: Entity: WASAC Dvpt, District Source: Central government transfers, Local taxes and District development partners | C11: Entity: WASAC Dvpt, District Source: Central government transfers, Local taxes and District development partners | D11: Entity: PO Source: Tariff
A13: Community/Individual | B13: Entity: WASAC Dvpt, District Source: Central government transfers, Local taxes and District development partners | C13: Entity: WASAC Dvpt, District Source: Central government transfers, Local taxes and District development partners | D13: Entity: community Source: Tariff
A16: Financial flows - only WASAC utility as service provider | E16: Financial flows - WASAC utility and Private Operator as service providers | O16: Financial flows - WASAC utility, Communities and Private Operator as service providers
A17: DISTRICT NAME | B17: Insert | E17: DISTRICT NAME | F17: Insert | O17: DISTRICT NAME | R17: Insert
A40: Financial flows - WASAC utility and Communities as service providers | E40: Financial flows - Only Private Operator as service providers
A41: DISTRICT NAME | B41: Insert | E41: DISTRICT NAME
A63: Financial flows - WASAC utility and Communities and Private Operator as service providers
A64: DISTRICT NAME | B64: Insert

Sheet 3_Vision
A1: VISION
A3: OVERVIEW OF COVERAGE PROGRESSION
A18: NUMBER OF SYSTEMS TO BUILD TO ACHIEVE VISION | G18: TARGETS AND MILESTONES FOR ACHIEVING UNIVERSAL ACCESS
B20: Water supply | D20: Number of new beneficiaries | E20: Total people served | G20: Year | H20: Water supply
A21: Year | B21: Piped schemes | C21: Handpump | G21: ='1_Profile'!C3 -> 2020 | H21: =(E22/('1_Profile'!$B$11*EXP('1_Profile'!$D$11*('3_Vision'!G21-'1_Profile'!$C$3)))) -> #DIV/0!
A22: =G21 -> 2020 | E22: =D22+SUM('1_Profile'!$E$33:$E$38) -> 0 | G22: =G21+1 -> 2021 | H22: =(E23/('1_Profile'!$B$11*EXP('1_Profile'!$D$11*('3_Vision'!G22-'1_Profile'!$C$3)))) -> #DIV/0!
A23: =G22 -> 2021 | E23: =D23+E22 -> 0 | G23: =G22+1 -> 2022 | H23: =(E24/('1_Profile'!$B$11*EXP('1_Profile'!$D$11*('3_Vision'!G23-'1_Profile'!$C$3)))) -> #DIV/0!
A24: =G23 -> 2022 | E24: =D24+E23 -> 0 | G24: =G23+1 -> 2023 | H24: =(E25/('1_Profile'!$B$11*EXP('1_Profile'!$D$11*('3_Vision'!G24-'1_Profile'!$C$3)))) -> #DIV/0!
A25: =G24 -> 2023 | E25: =D25+E24 -> 0 | G25: =G24+1 -> 2024 | H25: =(E26/('1_Profile'!$B$11*EXP('1_Profile'!$D$11*('3_Vision'!G25-'1_Profile'!$C$3)))) -> #DIV/0!
A26: =G25 -> 2024 | E26: =D26+E25 -> 0 | G26: =G25+1 -> 2025 | H26: =(E27/('1_Profile'!$B$11*EXP('1_Profile'!$D$11*('3_Vision'!G26-'1_Profile'!$C$3)))) -> #DIV/0!
A27: =G26 -> 2025 | E27: =D27+E26 -> 0 | G27: =G26+1 -> 2026 | H27: =(E28/('1_Profile'!$B$11*EXP('1_Profile'!$D$11*('3_Vision'!G27-'1_Profile'!$C$3)))) -> #DIV/0!
A28: =G27 -> 2026 | E28: =D28+E27 -> 0 | G28: =G27+1 -> 2027 | H28: =(E29/('1_Profile'!$B$11*EXP('1_Profile'!$D$11*('3_Vision'!G28-'1_Profile'!$C$3)))) -> #DIV/0!
A29: =G28 -> 2027 | E29: =D29+E28 -> 0 | G29: =G28+1 -> 2028 | H29: =(E30/('1_Profile'!$B$11*EXP('1_Profile'!$D$11*('3_Vision'!G29-'1_Profile'!$C$3)))) -> #DIV/0!
A30: =G29 -> 2028 | E30: =D30+E29 -> 0 | G30: =G29+1 -> 2029 | H30: =(E31/('1_Profile'!$B$11*EXP('1_Profile'!$D$11*('3_Vision'!G30-'1_Profile'!$C$3)))) -> #DIV/0!
A31: =G30 -> 2029 | E31: =D31+E30 -> 0 | G31: =G30+1 -> 2030 | H31: =(E32/('1_Profile'!$B$11*EXP('1_Profile'!$D$11*('3_Vision'!G31-'1_Profile'!$C$3)))) -> #DIV/0!
A32: =G31 -> 2030 | E32: =D32+E31 -> 0
A35: DESIGN REFERENCE
B37: Number of users
A39: Piped scheme
A40: Handpump
A41: Public tap

Sheet 4_Cost
A1: COSTS OF SERVICE PROVISION
A3: Source of information from other tools | B3: Engineering design | C3: CapManEx Tool | D3: AtWhatCost | E3: Direct Support Cost
B5: CapEx | C5: CapManEx | D5: OpEx | E5: Dsexp
A6: Total
A7: ='1_Profile'!$C$3 -> 2020
A8: =A7+1 -> 2021
A9: =A8+1 -> 2022
A10: =A9+1 -> 2023
A11: =A10+1 -> 2024
A12: =A11+1 -> 2025
A13: =A12+1 -> 2026
A14: =A13+1 -> 2027
A15: =A14+1 -> 2028
A16: =A15+1 -> 2029

Sheet 5_Source of finance
A1: SOURCES OF FINANCE
B4: Corresponding cost | C4: ='1_Profile'!$C$3 -> 2020 | D4: =C4+1 -> 2021 | E4: =D4+1 -> 2022 | F4: =E4+1 -> 2023 | G4: =F4+1 -> 2024 | H4: =G4+1 -> 2025 | I4: =H4+1 -> 2026 | J4: =I4+1 -> 2027 | K4: =J4+1 -> 2028 | L4: =K4+1 -> 2029
A5: Tariffs | B5: OpEx
A6: Royalties | B6: Dsexp
A7: Central government transfers | B7: CapEx
B8: CapManEx
B9: Dsexp
A10: Local taxes | B10: CapEx
B11: CapManEx
B12: Dsexp
A13: District development partners | B13: CapEx
B14: CapManEx
B15: Dsexp

Sheet 6_Consolidate
A35: TABLE AT DISTRICT LEVEL
A37: Sum of Cost | B37: Column Labels
A38: Row Labels | B38: CapEx | C38: CapManEx | D38: Central government transfers | E38: DirSup | F38: District development partners | G38: Local taxes | H38: OpEx | I38: Royalties | J38: Tariff | K38: Gap | L38: Grand Total | N38: Gap | O38: Surplus
A39: 2020 | B39: 0 | C39: 0 | D39: 0 | E39: 0 | F39: 0 | G39: 0 | H39: 0 | I39: 0 | J39: 0 | K39: 0 | L39: 0 | N39: =IF(Data!B22= "Surplus", Data!C22, 0) -> 0 | O39: =IF(Data!C22= "Surplus", Data!D22, 0) -> 0
A40: Cost | B40: 0 | C40: 0 | E40: 0 | H40: 0 | L40: 0
A41: Source | D41: 0 | F41: 0 | G41: 0 | I41: 0 | J41: 0 | K41: 0 | L41: 0
A42: 2021 | B42: 0 | C42: 0 | D42: 0 | E42: 0 | F42: 0 | G42: 0 | H42: 0 | I42: 0 | J42: 0 | K42: 0 | L42: 0 | N42: =IF(Data!C32= "Gap", Data!D32, "0") -> 0 | O42: =IF(Data!C32= "Surplus", Data!D32, 0) -> 0
A43: Cost | B43: 0 | C43: 0 | E43: 0 | H43: 0 | L43: 0
A44: Source | D44: 0 | F44: 0 | G44: 0 | I44: 0 | J44: 0 | K44: 0 | L44: 0
A45: 2022 | B45: 0 | C45: 0 | D45: 0 | E45: 0 | F45: 0 | G45: 0 | H45: 0 | I45: 0 | J45: 0 | K45: 0 | L45: 0 | N45: =IF(Data!B42= "Surplus", Data!C42, 0) -> 0 | O45: =IF(Data!C42= "Surplus", Data!D42, 0) -> 0
A46: Cost | B46: 0 | C46: 0 | E46: 0 | H46: 0 | L46: 0
A47: Source | D47: 0 | F47: 0 | G47: 0 | I47: 0 | J47: 0 | K47: 0 | L47: 0
A48: 2023 | B48: 0 | C48: 0 | D48: 0 | E48: 0 | F48: 0 | G48: 0 | H48: 0 | I48: 0 | J48: 0 | K48: 0 | L48: 0 | N48: =IF(Data!C52= "Gap", Data!D52, "0") -> 0 | O48: =IF(Data!C52= "Surplus", Data!D52, 0) -> 0
A49: Cost | B49: 0 | C49: 0 | E49: 0 | H49: 0 | L49: 0
A50: Source | D50: 0 | F50: 0 | G50: 0 | I50: 0 | J50: 0 | K50: 0 | L50: 0
A51: 2024 | B51: 0 | C51: 0 | D51: 0 | E51: 0 | F51: 0 | G51: 0 | H51: 0 | I51: 0 | J51: 0 | K51: 0 | L51: 0 | N51: =IF(Data!C62= "Gap",Data!D62, "0") -> 0 | O51: =IF(Data!C62= "Surplus", Data!D62, 0) -> 0
A52: Cost | B52: 0 | C52: 0 | E52: 0 | H52: 0 | L52: 0
A53: Source | D53: 0 | F53: 0 | G53: 0 | I53: 0 | J53: 0 | K53: 0 | L53: 0
A54: 2025 | B54: 0 | C54: 0 | D54: 0 | E54: 0 | F54: 0 | G54: 0 | H54: 0 | I54: 0 | J54: 0 | K54: 0 | L54: 0 | N54: =IF(Data!C72= "Gap", Data!D72, "0") -> 0 | O54: =IF(Data!C72= "Surplus", Data!D72, 0) -> 0
A55: Cost | B55: 0 | C55: 0 | E55: 0 | H55: 0 | L55: 0
A56: Source | D56: 0 | F56: 0 | G56: 0 | I56: 0 | J56: 0 | K56: 0 | L56: 0
A57: 2026 | B57: 0 | C57: 0 | D57: 0 | E57: 0 | F57: 0 | G57: 0 | H57: 0 | I57: 0 | J57: 0 | K57: 0 | L57: 0 | N57: =IF(Data!C82= "Gap", Data!D82, "0") -> 0 | O57: =IF(Data!C82= "Surplus", Data!D82, 0) -> 0
A58: Cost | B58: 0 | C58: 0 | E58: 0 | H58: 0 | L58: 0
A59: Source | D59: 0 | F59: 0 | G59: 0 | I59: 0 | J59: 0 | K59: 0 | L59: 0
A60: 2027 | B60: 0 | C60: 0 | D60: 0 | E60: 0 | F60: 0 | G60: 0 | H60: 0 | I60: 0 | J60: 0 | K60: 0 | L60: 0 | N60: =IF(Data!C92= "Gap", Data!D92, "0") -> 0 | O60: =IF(Data!C92= "Surplus", Data!D92, 0) -> 0
A61: Cost | B61: 0 | C61: 0 | E61: 0 | H61: 0 | L61: 0
A62: Source | D62: 0 | F62: 0 | G62: 0 | I62: 0 | J62: 0 | K62: 0 | L62: 0
A63: 2028 | B63: 0 | C63: 0 | D63: 0 | E63: 0 | F63: 0 | G63: 0 | H63: 0 | I63: 0 | J63: 0 | K63: 0 | L63: 0 | N63: =IF(Data!C102= "Gap", Data!D102, "0") -> 0 | O63: =IF(Data!C102= "Surplus", Data!D102, 0) -> 0
A64: Cost | B64: 0 | C64: 0 | E64: 0 | H64: 0 | L64: 0
A65: Source | D65: 0 | F65: 0 | G65: 0 | I65: 0 | J65: 0 | K65: 0 | L65: 0
A66: 2029 | B66: 0 | C66: 0 | D66: 0 | E66: 0 | F66: 0 | G66: 0 | H66: 0 | I66: 0 | J66: 0 | K66: 0 | L66: 0 | N66: =IF(Data!C112= "Gap", Data!D112, "0") -> 0 | O66: =IF(Data!C112= "Surplus", Data!D112, 0) -> 0
A67: Cost | B67: 0 | C67: 0 | E67: 0 | H67: 0 | L67: 0
A68: Source | D68: 0 | F68: 0 | G68: 0 | I68: 0 | J68: 0 | K68: 0 | L68: 0
A69: Grand Total | B69: 0 | C69: 0 | D69: 0 | E69: 0 | F69: 0 | G69: 0 | H69: 0 | I69: 0 | J69: 0 | K69: 0 | L69: 0 | N69: =SUM(N39:N68) -> 0 | O69: =SUM(O39:O68) -> 0

Sheet Data
A2: Area | C2: Years | E2: Source of finance | G2: Type of cost | L2: Service Provider
A3: Rural | C3: 2018 | E3: Tariff | G3: CapEx | H3: CapManEx | I3: OpEx | J3: DSEx | L3: WASAC Utility
A4: Urban | C4: 2019 | E4: Taxes | G4: WASAC Development | H4: WASAC Development | I4: WASAC Utility | J4: WASAC Utility | L4: Private Operator
C5: 2020 | E5: Transfers | I5: Private operator | J5: District | L5: Community
C6: 2021 | I6: Community | J6: WASAC Development
C7: 2022
C8: 2023
C9: 2024
C10: 2025
C11: 2026
C12: 2027
C13: 2028
A16: Year | B16: Category | C16: Cost category | D16: Cost
A17: ='4_Cost'!A7 -> 2020 | B17: Cost | C17: CapEx | D17: ='4_Cost'!B7 -> 0
A18: ='4_Cost'!A7 -> 2020 | B18: Cost | C18: CapManEx | D18: ='4_Cost'!C7 -> 0
A19: ='5_Source of finance'!C4 -> 2020 | B19: Source | C19: Central government transfers | D19: =SUM('5_Source of finance'!C7:C9) -> 0
A20: ='4_Cost'!A7 -> 2020 | B20: Cost | C20: DirSup | D20: ='4_Cost'!E7 -> 0
A21: ='5_Source of finance'!$C$4 -> 2020 | B21: Source | C21: District development partners | D21: =SUM('5_Source of finance'!C13:C15) -> 0
A22: ='5_Source of finance'!$C$4 -> 2020 | B22: Source | C22: =IF(E22>0, "Surplus", "Gap") -> Gap | D22: =ABS(D19+D21+D23+D25+D26-D17-D18-D20-D24) -> 0 | E22: =D19+D21+D23+D25+D26-D17-D18-D20-D24 -> 0
A23: ='5_Source of finance'!$C$4 -> 2020 | B23: Source | C23: Local taxes | D23: =SUM('5_Source of finance'!C10:C12) -> 0
A24: ='4_Cost'!A7 -> 2020 | B24: Cost | C24: OpEx | D24: ='4_Cost'!D7 -> 0
A25: ='5_Source of finance'!$C$4 -> 2020 | B25: Source | C25: Royalties | D25: ='5_Source of finance'!C6 -> 0
A26: ='5_Source of finance'!$C$4 -> 2020 | B26: Source | C26: Tariff | D26: ='5_Source of finance'!C5 -> 0
A27: ='4_Cost'!A8 -> 2021 | B27: Cost | C27: CapEx | D27: ='4_Cost'!B8 -> 0
A28: ='4_Cost'!A8 -> 2021 | B28: Cost | C28: CapManEx | D28: ='4_Cost'!C8 -> 0
A29: ='5_Source of finance'!D4 -> 2021 | B29: Source | C29: Central government transfers | D29: =SUM('5_Source of finance'!D7:D9) -> 0
A30: ='4_Cost'!A8 -> 2021 | B30: Cost | C30: DirSup | D30: ='4_Cost'!E8 -> 0
A31: ='5_Source of finance'!$D$4 -> 2021 | B31: Source | C31: District development partners | D31: =SUM('5_Source of finance'!D13:D15) -> 0
A32: ='5_Source of finance'!$D$4 -> 2021 | B32: Source | C32: =IF(E32>0, "Surplus", "Gap") -> Gap | D32: =ABS(D29+D31+D33+D35+D36-D27-D28-D30-D34) -> 0 | E32: =D29+D31+D33+D35+D36-D27-D28-D30-D34 -> 0
A33: ='5_Source of finance'!$D$4 -> 2021 | B33: Source | C33: Local taxes | D33: =SUM('5_Source of finance'!D10:D12) -> 0
A34: ='4_Cost'!A8 -> 2021 | B34: Cost | C34: OpEx | D34: ='4_Cost'!D8 -> 0
A35: ='5_Source of finance'!$D$4 -> 2021 | B35: Source | C35: Royalties | D35: ='5_Source of finance'!D6 -> 0
A36: ='5_Source of finance'!$D$4 -> 2021 | B36: Source | C36: Tariff | D36: ='5_Source of finance'!D5 -> 0
A37: ='4_Cost'!A9 -> 2022 | B37: Cost | C37: CapEx | D37: ='4_Cost'!B9 -> 0
A38: ='4_Cost'!A9 -> 2022 | B38: Cost | C38: CapManEx | D38: ='4_Cost'!C9 -> 0
A39: ='5_Source of finance'!E4 -> 2022 | B39: Source | C39: Central government transfers | D39: =SUM('5_Source of finance'!E7:E9) -> 0
A40: ='4_Cost'!A9 -> 2022 | B40: Cost | C40: DirSup | D40: ='4_Cost'!E9 -> 0
A41: ='5_Source of finance'!$E$4 -> 2022 | B41: Source | C41: District development partners | D41: =SUM('5_Source of finance'!F13:F15) -> 0
A42: ='5_Source of finance'!$E$4 -> 2022 | B42: Source | C42: =IF(E42>0, "Surplus", "Gap") -> Gap | D42: =ABS(D39+D41+D43+D45+D46-D37-D38-D40-D44) -> 0 | E42: =D39+D41+D43+D45+D46-D37-D38-D40-D44 -> 0
A43: ='5_Source of finance'!$E$4 -> 2022 | B43: Source | C43: Local taxes | D43: =SUM('5_Source of finance'!E10:E12) -> 0
...
